BEGIN:VCALENDAR
VERSION:2.0
PRODID:-//Tukios.com/
BEGIN:VEVENT
UID:fe347758-b8d5-4d9c-aca6-a3faebc81a2b@www.metcalfbonzomortuary.com
DTSTAMP:20260423T210737Z
DTSTART:20260502T180000Z
DTEND:20260502T190000Z
SUMMARY:Interment
DESCRIPTION:
URL:https://www.metcalfbonzomortuary.com/obituaries/donald-lowe
LOCATION: 685 N Main St  Cedar City UT 84721
GEO:37.6906391;-113.0633447
END:VEVENT
END:VCALENDAR