BEGIN:VCALENDAR
VERSION:2.0
PRODID:-//Tukios.com/
BEGIN:VEVENT
UID:5e588a5b-c426-4376-aecb-a0d05804a12c@www.metcalfbonzomortuary.com
DTSTAMP:20260423T023327Z
DTSTART:20260502T200000Z
DTEND:20260502T210000Z
SUMMARY:Funeral Service
DESCRIPTION:
URL:https://www.metcalfbonzomortuary.com/obituaries/ralph-richey-jr
LOCATION: 288 W St George Blvd  St. George UT 84770
GEO:37.1103279;-113.589125
END:VEVENT
END:VCALENDAR