BEGIN:VCALENDAR
VERSION:2.0
PRODID:-//Tukios.com/
BEGIN:VEVENT
UID:e01a8254-6287-4af0-a7ea-1ee4426964e1@www.metcalfbonzomortuary.com
DTSTAMP:20260423T023022Z
DTSTART:20260502T183000Z
DTEND:20260502T193000Z
SUMMARY:Viewing
DESCRIPTION:
URL:https://www.metcalfbonzomortuary.com/obituaries/ralph-richey-jr
LOCATION: 288 W St George Blvd  St. George UT 84770
GEO:37.1103279;-113.589125
END:VEVENT
END:VCALENDAR